BEGIN:VCALENDAR
VERSION:2.0
PRODID:-//Sabre//Sabre VObject 4.5.8//EN
CALSCALE:GREGORIAN
BEGIN:VEVENT
UID:criticalmass-one-osnabruck-1406304000
DTSTAMP:20260424T092317Z
SUMMARY:Critical Mass Osnabrück 25.07.2014
DTSTART;TZID=Europe/Berlin:20140725T180000
DTEND;TZID=Europe/Berlin:20140725T200000
LOCATION:Stadthalle Osnabrück
GEO:52.271672;8.041880
URL;VALUE=URI:https://criticalmass.in/osnabruck/2014-07-25
END:VEVENT
END:VCALENDAR
