BEGIN:VCALENDAR
VERSION:2.0
PRODID:-//Sabre//Sabre VObject 4.5.8//EN
CALSCALE:GREGORIAN
BEGIN:VEVENT
UID:criticalmass-one-osnabruck-1391187600
DTSTAMP:20260424T024745Z
SUMMARY:Critical Mass Osnabrück 31.01.2014
DTSTART;TZID=Europe/Berlin:20140131T180000
DTEND;TZID=Europe/Berlin:20140131T200000
LOCATION:Stadthalle Osnabrück
GEO:52.271672;8.041880
URL;VALUE=URI:https://criticalmass.in/osnabruck/2014-01-31
END:VEVENT
END:VCALENDAR
