BEGIN:VCALENDAR
VERSION:2.0
PRODID:-//Sabre//Sabre VObject 4.5.8//EN
CALSCALE:GREGORIAN
BEGIN:VEVENT
UID:criticalmass-one-orlando-1769886000
DTSTAMP:20260422T140531Z
SUMMARY:Alex Pretti Memorial Ride — Monica Apolonia Spencer
DESCRIPTION:Orlando\, Florida - meeting at Loch Haven Park\, 2:00 meet / 2:
 30 roll\, Following the critical mass route\, slow roll\, roughly an hour.
DTSTART;TZID=America/New_York:20260131T140000
DTEND;TZID=America/New_York:20260131T160000
LOCATION:Loch Haven Park\, Orlando
GEO:28.572054;-81.366713
URL;VALUE=URI:https://criticalmass.in/orlando/alex-pretti-memorial-ride-orl
 ando-2026-01-31
END:VEVENT
END:VCALENDAR
