BEGIN:VCALENDAR
VERSION:2.0
PRODID:-//Sabre//Sabre VObject 4.5.8//EN
CALSCALE:GREGORIAN
BEGIN:VEVENT
UID:criticalmass-one-omaha-1769875200
DTSTAMP:20260425T221106Z
SUMMARY:Alex Pretti Memorial Ride — Ponderosa Cyclery
DESCRIPTION:Saturday\, Jan 31st 4 p.m. meet at the Field Club Trailhead Nor
 th/Leavenworth St.\, roll at 4:30 p.m.
DTSTART;TZID=America/Chicago:20260131T100000
DTEND;TZID=America/Chicago:20260131T120000
LOCATION:Field Club Trailhead North\, Omaha
GEO:41.252288;-95.972091
URL;VALUE=URI:https://criticalmass.in/omaha/alex-pretti-memorial-ride-omaha
 -2026-01-31
END:VEVENT
END:VCALENDAR
