BEGIN:VCALENDAR
VERSION:2.0
PRODID:-//Sabre//Sabre VObject 4.5.8//EN
CALSCALE:GREGORIAN
BEGIN:VEVENT
UID:criticalmass-one-olten-1761930900
DTSTAMP:20260425T195739Z
SUMMARY:Veloschwarm Olten 31.10.2025
DTSTART;TZID=Europe/Berlin:20251031T181500
DTEND;TZID=Europe/Berlin:20251031T201500
LOCATION:Vögeligarten Olten
GEO:47.346413;7.915066
URL;VALUE=URI:https://criticalmass.in/olten/2025-10-31
END:VEVENT
END:VCALENDAR
