BEGIN:VCALENDAR
VERSION:2.0
PRODID:-//Sabre//Sabre VObject 4.5.8//EN
CALSCALE:GREGORIAN
BEGIN:VEVENT
UID:criticalmass-one-olten-1743182100
DTSTAMP:20260425T181649Z
SUMMARY:Veloschwarm Olten 28.03.2025
DTSTART;TZID=Europe/Berlin:20250328T181500
DTEND;TZID=Europe/Berlin:20250328T201500
LOCATION:Vögeligarten Olten
GEO:47.346413;7.915066
URL;VALUE=URI:https://criticalmass.in/olten/2025-03-28
END:VEVENT
END:VCALENDAR
