BEGIN:VCALENDAR
VERSION:2.0
PRODID:-//Sabre//Sabre VObject 4.5.8//EN
CALSCALE:GREGORIAN
BEGIN:VEVENT
UID:criticalmass-one-olten-1722010500
DTSTAMP:20260425T002321Z
SUMMARY:Veloschwarm Olten 26.07.2024
DTSTART;TZID=Europe/Berlin:20240726T181500
DTEND;TZID=Europe/Berlin:20240726T201500
LOCATION:Vögeligarten Olten
GEO:47.346413;7.915066
URL;VALUE=URI:https://criticalmass.in/olten/2024-07-26
END:VEVENT
END:VCALENDAR
