BEGIN:VCALENDAR
VERSION:2.0
PRODID:-//Sabre//Sabre VObject 4.5.8//EN
CALSCALE:GREGORIAN
BEGIN:VEVENT
UID:criticalmass-one-olten-1717172100
DTSTAMP:20260425T030801Z
SUMMARY:Veloschwarm Olten 31.05.2024
DTSTART;TZID=Europe/Berlin:20240531T181500
DTEND;TZID=Europe/Berlin:20240531T201500
LOCATION:Vögeligarten Olten
GEO:47.346413;7.915066
URL;VALUE=URI:https://criticalmass.in/olten/2024-05-31
END:VEVENT
END:VCALENDAR
