BEGIN:VCALENDAR
VERSION:2.0
PRODID:-//Sabre//Sabre VObject 4.5.8//EN
CALSCALE:GREGORIAN
BEGIN:VEVENT
UID:criticalmass-one-olten-1714148100
DTSTAMP:20260426T030423Z
SUMMARY:Veloschwarm Olten 26.04.2024
DTSTART;TZID=Europe/Berlin:20240426T181500
DTEND;TZID=Europe/Berlin:20240426T201500
LOCATION:Vögeligarten Olten
GEO:47.346413;7.915066
URL;VALUE=URI:https://criticalmass.in/olten/2024-04-26
END:VEVENT
END:VCALENDAR
