BEGIN:VCALENDAR
VERSION:2.0
PRODID:-//Sabre//Sabre VObject 4.5.8//EN
CALSCALE:GREGORIAN
BEGIN:VEVENT
UID:criticalmass-one-olten-1688141700
DTSTAMP:20260425T033759Z
SUMMARY:Veloschwarm Olten 30.06.2023
DTSTART;TZID=Europe/Berlin:20230630T181500
DTEND;TZID=Europe/Berlin:20230630T201500
LOCATION:Vögeligarten Olten
GEO:47.346413;7.915066
URL;VALUE=URI:https://criticalmass.in/olten/2023-06-30
END:VEVENT
END:VCALENDAR
