BEGIN:VCALENDAR
VERSION:2.0
PRODID:-//Sabre//Sabre VObject 4.5.8//EN
CALSCALE:GREGORIAN
BEGIN:VEVENT
UID:criticalmass-one-olten-1680279300
DTSTAMP:20260425T231735Z
SUMMARY:Veloschwarm Olten 31.03.2023
DTSTART;TZID=Europe/Berlin:20230331T181500
DTEND;TZID=Europe/Berlin:20230331T201500
LOCATION:Vögeligarten Olten
GEO:47.346413;7.915066
URL;VALUE=URI:https://criticalmass.in/olten/2023-03-31
END:VEVENT
END:VCALENDAR
