BEGIN:VCALENDAR
VERSION:2.0
PRODID:-//Sabre//Sabre VObject 4.5.8//EN
CALSCALE:GREGORIAN
BEGIN:VEVENT
UID:criticalmass-one-olten-1661530500
DTSTAMP:20260425T195754Z
SUMMARY:Veloschwarm Olten 26.08.2022
DTSTART;TZID=Europe/Berlin:20220826T181500
DTEND;TZID=Europe/Berlin:20220826T201500
LOCATION:Vögeligarten Olten
GEO:47.346413;7.915066
URL;VALUE=URI:https://criticalmass.in/olten/2022-08-26
END:VEVENT
END:VCALENDAR
