BEGIN:VCALENDAR
VERSION:2.0
PRODID:-//Sabre//Sabre VObject 4.5.8//EN
CALSCALE:GREGORIAN
BEGIN:VEVENT
UID:criticalmass-one-olten-1598631300
DTSTAMP:20260425T145309Z
SUMMARY:Veloschwarm Olten 28.08.2020
DTSTART;TZID=Europe/Berlin:20200828T181500
DTEND;TZID=Europe/Berlin:20200828T201500
LOCATION:Vögeligarten Olten
GEO:47.346413;7.915066
URL;VALUE=URI:https://criticalmass.in/olten/2020-08-28
END:VEVENT
END:VCALENDAR
