BEGIN:VCALENDAR
VERSION:2.0
PRODID:-//Sabre//Sabre VObject 4.5.8//EN
CALSCALE:GREGORIAN
BEGIN:VEVENT
UID:criticalmass-one-olten-1596212100
DTSTAMP:20260425T152845Z
SUMMARY:Veloschwarm Olten 31.07.2020
DTSTART;TZID=Europe/Berlin:20200731T181500
DTEND;TZID=Europe/Berlin:20200731T201500
LOCATION:Vögeligarten Olten
GEO:47.346413;7.915066
URL;VALUE=URI:https://criticalmass.in/olten/2020-07-31
END:VEVENT
END:VCALENDAR
