BEGIN:VCALENDAR
VERSION:2.0
PRODID:-//Sabre//Sabre VObject 4.5.8//EN
CALSCALE:GREGORIAN
BEGIN:VEVENT
UID:criticalmass-one-olching-1699092000
DTSTAMP:20260426T000120Z
SUMMARY:Critical Mass Olching 04.11.2023
DTSTART;TZID=Europe/Berlin:20231104T110000
DTEND;TZID=Europe/Berlin:20231104T130000
LOCATION:Am Vogelherd/Fürstenfeldbrucker Straße (am Ortseingang von Olchi
 ng)
URL;VALUE=URI:https://criticalmass.in/olching/2023-11-04
END:VEVENT
END:VCALENDAR
