BEGIN:VCALENDAR
VERSION:2.0
PRODID:-//Sabre//Sabre VObject 4.5.8//EN
CALSCALE:GREGORIAN
BEGIN:VEVENT
UID:criticalmass-one-olching-1696669200
DTSTAMP:20260425T173630Z
SUMMARY:Critical Mass Olching 07.10.2023
DTSTART;TZID=Europe/Berlin:20231007T110000
DTEND;TZID=Europe/Berlin:20231007T130000
LOCATION:Am Vogelherd/Fürstenfeldbrucker Straße (am Ortseingang von Olchi
 ng)
URL;VALUE=URI:https://criticalmass.in/olching/2023-10-07
END:VEVENT
END:VCALENDAR
