BEGIN:VCALENDAR
VERSION:2.0
PRODID:-//Sabre//Sabre VObject 4.5.8//EN
CALSCALE:GREGORIAN
BEGIN:VEVENT
UID:criticalmass-one-olching-1693645200
DTSTAMP:20260425T145321Z
SUMMARY:Critical Mass Olching 02.09.2023
DTSTART;TZID=Europe/Berlin:20230902T110000
DTEND;TZID=Europe/Berlin:20230902T130000
LOCATION:Am Vogelherd/Fürstenfeldbrucker Straße (am Ortseingang von Olchi
 ng)
URL;VALUE=URI:https://criticalmass.in/olching/2023-09-02
END:VEVENT
END:VCALENDAR
