BEGIN:VCALENDAR
VERSION:2.0
PRODID:-//Sabre//Sabre VObject 4.5.8//EN
CALSCALE:GREGORIAN
BEGIN:VEVENT
UID:criticalmass-one-oklahoma-city-1769864400
DTSTAMP:20260421T193528Z
SUMMARY:Alex Pretti Memorial Ride — dr.e.musictheory
DESCRIPTION:Meet @ 1 PM at Mesta Park\, ride starts at 1:30 PM and goes to 
 Scissortail.
DTSTART;TZID=America/Chicago:20260131T070000
DTEND;TZID=America/Chicago:20260131T090000
LOCATION:Mesta Park\, Oklahoma City
GEO:35.488719;-97.524969
URL;VALUE=URI:https://criticalmass.in/oklahoma-city/alex-pretti-memorial-ri
 de-oklahoma-city-2026-01-31
END:VEVENT
END:VCALENDAR
