BEGIN:VCALENDAR
VERSION:2.0
PRODID:-//Sabre//Sabre VObject 4.5.8//EN
CALSCALE:GREGORIAN
BEGIN:VEVENT
UID:criticalmass-one-ohringen-1766764800
DTSTAMP:20260423T030632Z
SUMMARY:Critical Mass Öhringen 26.12.2025
DTSTART;TZID=Europe/Berlin:20251226T170000
DTEND;TZID=Europe/Berlin:20251226T190000
LOCATION:Kultura
GEO:49.199948;9.497402
URL;VALUE=URI:https://criticalmass.in/ohringen/2025-12-26
END:VEVENT
END:VCALENDAR
