BEGIN:VCALENDAR
VERSION:2.0
PRODID:-//Sabre//Sabre VObject 4.5.8//EN
CALSCALE:GREGORIAN
BEGIN:VEVENT
UID:criticalmass-one-ohringen-1748617200
DTSTAMP:20260423T204317Z
SUMMARY:Critical Mass Öhringen 30.05.2025
DTSTART;TZID=Europe/Berlin:20250530T170000
DTEND;TZID=Europe/Berlin:20250530T190000
LOCATION:Kultura
GEO:49.199948;9.497402
URL;VALUE=URI:https://criticalmass.in/ohringen/2025-05-30
END:VEVENT
END:VCALENDAR
