BEGIN:VCALENDAR
VERSION:2.0
PRODID:-//Sabre//Sabre VObject 4.5.8//EN
CALSCALE:GREGORIAN
BEGIN:VEVENT
UID:criticalmass-one-ohringen-1745593200
DTSTAMP:20260424T120607Z
SUMMARY:Critical Mass Öhringen 25.04.2025
DTSTART;TZID=Europe/Berlin:20250425T170000
DTEND;TZID=Europe/Berlin:20250425T190000
LOCATION:Kultura
GEO:49.199948;9.497402
URL;VALUE=URI:https://criticalmass.in/ohringen/2025-04-25
END:VEVENT
END:VCALENDAR
