BEGIN:VCALENDAR
VERSION:2.0
PRODID:-//Sabre//Sabre VObject 4.5.8//EN
CALSCALE:GREGORIAN
BEGIN:VEVENT
UID:criticalmass-one-ohringen-1698418800
DTSTAMP:20260423T082043Z
SUMMARY:Critical Mass Öhringen 27.10.2023
DTSTART;TZID=Europe/Berlin:20231027T170000
DTEND;TZID=Europe/Berlin:20231027T190000
LOCATION:Kultura
GEO:49.199948;9.497402
URL;VALUE=URI:https://criticalmass.in/ohringen/2023-10-27
END:VEVENT
END:VCALENDAR
