BEGIN:VCALENDAR
VERSION:2.0
PRODID:-//Sabre//Sabre VObject 4.5.8//EN
CALSCALE:GREGORIAN
BEGIN:VEVENT
UID:criticalmass-one-ohringen-1680274800
DTSTAMP:20260423T060402Z
SUMMARY:Critical Mass Öhringen 31.03.2023
DTSTART;TZID=Europe/Berlin:20230331T170000
DTEND;TZID=Europe/Berlin:20230331T190000
LOCATION:Kultura
GEO:49.199948;9.497402
URL;VALUE=URI:https://criticalmass.in/ohringen/2023-03-31
END:VEVENT
END:VCALENDAR
