BEGIN:VCALENDAR
VERSION:2.0
PRODID:-//Sabre//Sabre VObject 4.5.8//EN
CALSCALE:GREGORIAN
BEGIN:VEVENT
UID:criticalmass-one-ohringen-1669392000
DTSTAMP:20260423T030620Z
SUMMARY:Critical Mass Öhringen 25.11.2022
DTSTART;TZID=Europe/Berlin:20221125T170000
DTEND;TZID=Europe/Berlin:20221125T190000
LOCATION:Kultura
GEO:49.199948;9.497402
URL;VALUE=URI:https://criticalmass.in/ohringen/2022-11-25
END:VEVENT
END:VCALENDAR
