BEGIN:VCALENDAR
VERSION:2.0
PRODID:-//Sabre//Sabre VObject 4.5.8//EN
CALSCALE:GREGORIAN
BEGIN:VEVENT
UID:criticalmass-one-ohringen-1661526000
DTSTAMP:20260424T052322Z
SUMMARY:Critical Mass Öhringen 26.08.2022
DTSTART;TZID=Europe/Berlin:20220826T170000
DTEND;TZID=Europe/Berlin:20220826T190000
LOCATION:Kultura
GEO:49.199948;9.497402
URL;VALUE=URI:https://criticalmass.in/ohringen/2022-08-26
END:VEVENT
END:VCALENDAR
