BEGIN:VCALENDAR
VERSION:2.0
PRODID:-//Sabre//Sabre VObject 4.5.8//EN
CALSCALE:GREGORIAN
BEGIN:VEVENT
UID:criticalmass-one-ohringen-1632495600
DTSTAMP:20260423T205128Z
SUMMARY:Critical Mass Öhringen 24.09.2021
DTSTART;TZID=Europe/Berlin:20210924T170000
DTEND;TZID=Europe/Berlin:20210924T190000
LOCATION:Kultura
GEO:49.199948;9.497402
URL;VALUE=URI:https://criticalmass.in/ohringen/2021-09-24
END:VEVENT
END:VCALENDAR
