BEGIN:VCALENDAR
VERSION:2.0
PRODID:-//Sabre//Sabre VObject 4.5.8//EN
CALSCALE:GREGORIAN
BEGIN:VEVENT
UID:criticalmass-one-oconee-county-1769873400
DTSTAMP:20260421T112411Z
SUMMARY:Alex Pretti Memorial Ride — Logistic Mystic
DESCRIPTION:Meet at 10:30am\, roll at 11am - be prepared for Minnesota weat
 her in SC!!!
DTSTART;TZID=America/New_York:20260131T103000
DTEND;TZID=America/New_York:20260131T123000
LOCATION:Oconee County
GEO:34.850010;-83.109318
URL;VALUE=URI:https://criticalmass.in/oconee-county/alex-pretti-memorial-ri
 de-oconee-county-2026-01-31
END:VEVENT
END:VCALENDAR
