BEGIN:VCALENDAR
VERSION:2.0
PRODID:-//Sabre//Sabre VObject 4.5.8//EN
CALSCALE:GREGORIAN
BEGIN:VEVENT
UID:criticalmass-one-oberursel-1772211600
DTSTAMP:20260422T110213Z
SUMMARY:Critical Mass Oberursel 27.02.2026
DTSTART;TZID=Europe/Berlin:20260227T180000
DTEND;TZID=Europe/Berlin:20260227T200000
LOCATION:Adenauerpark
GEO:50.199541;8.585027
URL;VALUE=URI:https://criticalmass.in/oberursel/2026-02-27
END:VEVENT
END:VCALENDAR
