BEGIN:VCALENDAR
VERSION:2.0
PRODID:-//Sabre//Sabre VObject 4.5.8//EN
CALSCALE:GREGORIAN
BEGIN:VEVENT
UID:criticalmass-one-oberursel-1766768400
DTSTAMP:20260423T084600Z
SUMMARY:Critical Mass Oberursel 26.12.2025
DTSTART;TZID=Europe/Berlin:20251226T180000
DTEND;TZID=Europe/Berlin:20251226T200000
LOCATION:Adenauerpark
GEO:50.199541;8.585027
URL;VALUE=URI:https://criticalmass.in/oberursel/2025-12-26
END:VEVENT
END:VCALENDAR
