BEGIN:VCALENDAR
VERSION:2.0
PRODID:-//Sabre//Sabre VObject 4.5.8//EN
CALSCALE:GREGORIAN
BEGIN:VEVENT
UID:criticalmass-one-oberursel-1764349200
DTSTAMP:20260422T100339Z
SUMMARY:Critical Mass Oberursel 28.11.2025
DTSTART;TZID=Europe/Berlin:20251128T180000
DTEND;TZID=Europe/Berlin:20251128T200000
LOCATION:Adenauerpark
GEO:50.199541;8.585027
URL;VALUE=URI:https://criticalmass.in/oberursel/2025-11-28
END:VEVENT
END:VCALENDAR
