BEGIN:VCALENDAR
VERSION:2.0
PRODID:-//Sabre//Sabre VObject 4.5.8//EN
CALSCALE:GREGORIAN
BEGIN:VEVENT
UID:criticalmass-one-oberursel-1748620800
DTSTAMP:20260422T181525Z
SUMMARY:Critical Mass Oberursel 30.05.2025
DTSTART;TZID=Europe/Berlin:20250530T180000
DTEND;TZID=Europe/Berlin:20250530T200000
LOCATION:Adenauerpark
GEO:50.199541;8.585027
URL;VALUE=URI:https://criticalmass.in/oberursel/2025-05-30
END:VEVENT
END:VCALENDAR
