BEGIN:VCALENDAR
VERSION:2.0
PRODID:-//Sabre//Sabre VObject 4.5.8//EN
CALSCALE:GREGORIAN
BEGIN:VEVENT
UID:criticalmass-one-oberursel-1742400900
DTSTAMP:20260423T192551Z
SUMMARY:Oberursel - Frankfurter Landstraße
DESCRIPTION:eine kurze Spritztour durch die Orscheler Mitte
DTSTART;TZID=Europe/Berlin:20250319T171500
DTEND;TZID=Europe/Berlin:20250319T191500
LOCATION:Parkplatz an der U-Bahnhaltestelle Oerursel Bommersheim
GEO:50.193660;8.593755
URL;VALUE=URI:https://criticalmass.in/oberursel/2025-03-19
END:VEVENT
END:VCALENDAR
