BEGIN:VCALENDAR
VERSION:2.0
PRODID:-//Sabre//Sabre VObject 4.5.8//EN
CALSCALE:GREGORIAN
BEGIN:VEVENT
UID:criticalmass-one-oberursel-1700845200
DTSTAMP:20260423T192551Z
SUMMARY:Critical Mass Oberursel 24.11.2023
DTSTART;TZID=Europe/Berlin:20231124T180000
DTEND;TZID=Europe/Berlin:20231124T200000
LOCATION:Adenauerpark
GEO:50.199541;8.585027
URL;VALUE=URI:https://criticalmass.in/oberursel/2023-11-24
END:VEVENT
END:VCALENDAR
