BEGIN:VCALENDAR
VERSION:2.0
PRODID:-//Sabre//Sabre VObject 4.5.8//EN
CALSCALE:GREGORIAN
BEGIN:VEVENT
UID:criticalmass-one-oberursel-1698422400
DTSTAMP:20260425T032850Z
SUMMARY:Critical Mass Oberursel 27.10.2023
DTSTART;TZID=Europe/Berlin:20231027T180000
DTEND;TZID=Europe/Berlin:20231027T200000
LOCATION:Adenauerpark
GEO:50.199541;8.585027
URL;VALUE=URI:https://criticalmass.in/oberursel/2023-10-27
END:VEVENT
END:VCALENDAR
