BEGIN:VCALENDAR
VERSION:2.0
PRODID:-//Sabre//Sabre VObject 4.5.8//EN
CALSCALE:GREGORIAN
BEGIN:VEVENT
UID:criticalmass-one-oberursel-1690560000
DTSTAMP:20260422T064411Z
SUMMARY:Critical Mass Oberursel 28.07.2023
DTSTART;TZID=Europe/Berlin:20230728T180000
DTEND;TZID=Europe/Berlin:20230728T200000
LOCATION:Adenauerpark
GEO:50.199541;8.585027
URL;VALUE=URI:https://criticalmass.in/oberursel/2023-07-28
END:VEVENT
END:VCALENDAR
