BEGIN:VCALENDAR
VERSION:2.0
PRODID:-//Sabre//Sabre VObject 4.5.8//EN
CALSCALE:GREGORIAN
BEGIN:VEVENT
UID:criticalmass-one-nurnberg-1532700000
DTSTAMP:20260425T164515Z
SUMMARY:Kidical Mass Nürnberg
DTSTART;TZID=Europe/Berlin:20180727T160000
DTEND;TZID=Europe/Berlin:20180727T180000
LOCATION:Norikerstraße
GEO:49.451457;11.102818
URL;VALUE=URI:https://criticalmass.in/nurnberg/kidical-mass-2018
END:VEVENT
END:VCALENDAR
