BEGIN:VCALENDAR
VERSION:2.0
PRODID:-//Sabre//Sabre VObject 4.5.8//EN
CALSCALE:GREGORIAN
BEGIN:VEVENT
UID:criticalmass-one-nurnberg-1688140800
DTSTAMP:20260426T021353Z
SUMMARY:Critical Mass Nürnberg 30.06.2023
DTSTART;TZID=Europe/Berlin:20230630T180000
DTEND;TZID=Europe/Berlin:20230630T200000
LOCATION:Platz vor dem Opernhaus
GEO:49.446126;11.075851
URL;VALUE=URI:https://criticalmass.in/nurnberg/2023-06-30
END:VEVENT
END:VCALENDAR
