BEGIN:VCALENDAR
VERSION:2.0
PRODID:-//Sabre//Sabre VObject 4.5.8//EN
CALSCALE:GREGORIAN
BEGIN:VEVENT
UID:criticalmass-one-nurnberg-1677258000
DTSTAMP:20260425T164823Z
SUMMARY:Critical Mass Nürnberg 24.02.2023
DTSTART;TZID=Europe/Berlin:20230224T180000
DTEND;TZID=Europe/Berlin:20230224T200000
LOCATION:Platz vor dem Opernhaus
GEO:49.446126;11.075851
URL;VALUE=URI:https://criticalmass.in/nurnberg/2023-02-24
END:VEVENT
END:VCALENDAR
