BEGIN:VCALENDAR
VERSION:2.0
PRODID:-//Sabre//Sabre VObject 4.5.8//EN
CALSCALE:GREGORIAN
BEGIN:VEVENT
UID:criticalmass-one-nurnberg-1674838800
DTSTAMP:20260425T192858Z
SUMMARY:Critical Mass Nürnberg 27.01.2023
DTSTART;TZID=Europe/Berlin:20230127T180000
DTEND;TZID=Europe/Berlin:20230127T200000
LOCATION:Platz vor dem Opernhaus
GEO:49.446126;11.075851
URL;VALUE=URI:https://criticalmass.in/nurnberg/2023-01-27
END:VEVENT
END:VCALENDAR
