BEGIN:VCALENDAR
VERSION:2.0
PRODID:-//Sabre//Sabre VObject 4.5.8//EN
CALSCALE:GREGORIAN
BEGIN:VEVENT
UID:criticalmass-one-nurnberg-1527264000
DTSTAMP:20260425T120430Z
SUMMARY:Critical Mass Nürnberg 25.05.2018
DTSTART;TZID=Europe/Berlin:20180525T180000
DTEND;TZID=Europe/Berlin:20180525T200000
LOCATION:Platz vor dem Opernhaus
GEO:49.446126;11.075851
URL;VALUE=URI:https://criticalmass.in/nurnberg/2018-05-25
END:VEVENT
END:VCALENDAR
