BEGIN:VCALENDAR
VERSION:2.0
PRODID:-//Sabre//Sabre VObject 4.5.8//EN
CALSCALE:GREGORIAN
BEGIN:VEVENT
UID:criticalmass-one-nurnberg-1409328000
DTSTAMP:20260425T162132Z
SUMMARY:Critical Mass Nürnberg 29.08.2014
DTSTART;TZID=Europe/Berlin:20140829T180000
DTEND;TZID=Europe/Berlin:20140829T200000
LOCATION:Platz vor dem Opernhaus
GEO:49.446126;11.075851
URL;VALUE=URI:https://criticalmass.in/nurnberg/2014-08-29
END:VEVENT
END:VCALENDAR
