BEGIN:VCALENDAR
VERSION:2.0
PRODID:-//Sabre//Sabre VObject 4.5.8//EN
CALSCALE:GREGORIAN
BEGIN:VEVENT
UID:criticalmass-one-nottuln-1664110800
DTSTAMP:20260423T194811Z
SUMMARY:Kidical Mass Nottuln 25.09.2022
DTSTART;TZID=Europe/Berlin:20220925T150000
DTEND;TZID=Europe/Berlin:20220925T170000
LOCATION:Stiftsplatz
GEO:51.930082;7.352326
URL;VALUE=URI:https://criticalmass.in/nottuln/kidical-mass-nottuln-septembe
 r-2022
END:VEVENT
END:VCALENDAR
