BEGIN:VCALENDAR
VERSION:2.0
PRODID:-//Sabre//Sabre VObject 4.5.8//EN
CALSCALE:GREGORIAN
BEGIN:VEVENT
UID:criticalmass-one-norwalk-1769869800
DTSTAMP:20260424T033322Z
SUMMARY:Alex Pretti Memorial Ride — Burton Avery
DESCRIPTION:2:30 EST sharp roll\, CIRR (in sync with the Minneapolis crew).
  Calf Pasture Beach\, Norwalk CT. 15 miles to Compo Beach and back\, but p
 eel off when you like
DTSTART;TZID=America/New_York:20260131T093000
DTEND;TZID=America/New_York:20260131T113000
LOCATION:Calf Pasture Beach\, Norwalk
GEO:41.083990;-73.394655
URL;VALUE=URI:https://criticalmass.in/norwalk/alex-pretti-memorial-ride-nor
 walk-2026-01-31
END:VEVENT
END:VCALENDAR
