BEGIN:VCALENDAR
VERSION:2.0
PRODID:-//Sabre//Sabre VObject 4.5.8//EN
CALSCALE:GREGORIAN
BEGIN:VEVENT
UID:criticalmass-one-norfolk-1769868000
DTSTAMP:20260419T181419Z
SUMMARY:Alex Pretti Memorial Ride — Social Cycling Norfolk
DESCRIPTION:Meet on Saturday at Toast at 2 p.m. for a 2:30 p.m. roll-out. 
DTSTART;TZID=America/New_York:20260131T090000
DTEND;TZID=America/New_York:20260131T110000
LOCATION:Toast\, Norfolk
GEO:36.871789;-76.290460
URL;VALUE=URI:https://criticalmass.in/norfolk/alex-pretti-memorial-ride-nor
 folk-2026-01-31
END:VEVENT
END:VCALENDAR
