BEGIN:VCALENDAR
VERSION:2.0
PRODID:-//Sabre//Sabre VObject 4.5.8//EN
CALSCALE:GREGORIAN
BEGIN:VEVENT
UID:criticalmass-one-nordhorn-1772211600
DTSTAMP:20260421T180506Z
SUMMARY:Critical Mass Nordhorn 27.02.2026
DTSTART;TZID=Europe/Berlin:20260227T180000
DTEND;TZID=Europe/Berlin:20260227T200000
LOCATION:Alte Kirche am Markt
GEO:52.437693;7.070807
URL;VALUE=URI:https://criticalmass.in/nordhorn/2026-02-27
END:VEVENT
END:VCALENDAR
