BEGIN:VCALENDAR
VERSION:2.0
PRODID:-//Sabre//Sabre VObject 4.5.8//EN
CALSCALE:GREGORIAN
BEGIN:VEVENT
UID:criticalmass-one-nordhorn-1764349200
DTSTAMP:20260423T113638Z
SUMMARY:Critical Mass Nordhorn 28.11.2025
DTSTART;TZID=Europe/Berlin:20251128T180000
DTEND;TZID=Europe/Berlin:20251128T200000
LOCATION:Alte Kirche am Markt
GEO:52.437693;7.070807
URL;VALUE=URI:https://criticalmass.in/nordhorn/2025-11-28
END:VEVENT
END:VCALENDAR
