BEGIN:VCALENDAR
VERSION:2.0
PRODID:-//Sabre//Sabre VObject 4.5.8//EN
CALSCALE:GREGORIAN
BEGIN:VEVENT
UID:criticalmass-one-nordhorn-1692979200
DTSTAMP:20260421T100546Z
SUMMARY:Critical Mass Nordhorn 25.08.2023
DTSTART;TZID=Europe/Berlin:20230825T180000
DTEND;TZID=Europe/Berlin:20230825T200000
LOCATION:Alte Kirche am Markt
GEO:52.437693;7.070807
URL;VALUE=URI:https://criticalmass.in/nordhorn/2023-08-25
END:VEVENT
END:VCALENDAR
