BEGIN:VCALENDAR
VERSION:2.0
PRODID:-//Sabre//Sabre VObject 4.5.8//EN
CALSCALE:GREGORIAN
BEGIN:VEVENT
UID:criticalmass-one-nordhorn-1637946000
DTSTAMP:20260421T100546Z
SUMMARY:Critical Mass Nordhorn 26.11.2021
DTSTART;TZID=Europe/Berlin:20211126T180000
DTEND;TZID=Europe/Berlin:20211126T200000
LOCATION:Alte Kirche am Markt
GEO:52.437693;7.070807
URL;VALUE=URI:https://criticalmass.in/nordhorn/2021-11-26
END:VEVENT
END:VCALENDAR
