BEGIN:VCALENDAR
VERSION:2.0
PRODID:-//Sabre//Sabre VObject 4.5.8//EN
CALSCALE:GREGORIAN
BEGIN:VEVENT
UID:criticalmass-one-nordhorn-1567180800
DTSTAMP:20260421T123406Z
SUMMARY:Critical Mass August
DTSTART;TZID=Europe/Berlin:20190830T180000
DTEND;TZID=Europe/Berlin:20190830T200000
LOCATION:Alte Kirche am Markt
URL;VALUE=URI:https://criticalmass.in/nordhorn/2019-08-30
END:VEVENT
END:VCALENDAR
