BEGIN:VCALENDAR
VERSION:2.0
PRODID:-//Sabre//Sabre VObject 4.5.8//EN
CALSCALE:GREGORIAN
BEGIN:VEVENT
UID:criticalmass-one-norderstedt-1775235600
DTSTAMP:20260424T092206Z
SUMMARY:133. Critical Mass Norderstedt
DESCRIPTION:Car - Freitag
DTSTART;TZID=Europe/Berlin:20260403T190000
DTEND;TZID=Europe/Berlin:20260403T210000
LOCATION:Vor dem Rathaus Norderstedt\, Rathausallee 50\, 22846 Norderstedt
GEO:53.707718;9.994011
URL;VALUE=URI:https://criticalmass.in/norderstedt/2026-04-03
END:VEVENT
END:VCALENDAR
